BEGIN:VCALENDAR
VERSION:2.0
PRODID:-//Tukios.com/
BEGIN:VEVENT
UID:6a143a42-7635-4831-9366-6b61d0504805@www.regerfuneralhome.com
DTSTAMP:20260424T154231Z
DTSTART:20260516T160000Z
DTEND:20260516T170000Z
SUMMARY:Memorial Service
DESCRIPTION:
URL:https://www.regerfuneralhome.com/obituaries/carol-crossan
LOCATION:Reger Funeral Chapel 1242 Adams Avenue  Huntington WV 25704
GEO:38.4127038;-82.4778824
END:VEVENT
END:VCALENDAR