BEGIN:VCALENDAR
VERSION:2.0
PRODID:-//Tukios.com/
BEGIN:VEVENT
UID:b9be6361-b4b8-4880-b66c-3f42bc3da055@www.regerfuneralhome.com
DTSTAMP:20260421T002603Z
DTSTART:20260423T170000Z
DTEND:20260423T180000Z
SUMMARY:Funeral Service
DESCRIPTION:
URL:https://www.regerfuneralhome.com/obituaries/evelyn-layne
LOCATION:Reger Funeral Chapel 1242 Adams Avenue  Huntington WV 25704
GEO:38.4127038;-82.4778824
END:VEVENT
END:VCALENDAR