BEGIN:VCALENDAR
VERSION:2.0
PRODID:-//Tukios.com/
BEGIN:VEVENT
UID:af03c140-3ad1-4655-9096-fe6cb91078dd@www.regerfuneralhome.com
DTSTAMP:20260421T002947Z
DTSTART:20260423T180000Z
DTEND:20260423T190000Z
SUMMARY:Burial
DESCRIPTION:
URL:https://www.regerfuneralhome.com/obituaries/evelyn-layne
LOCATION: 5547 West Pea Ridge Road  Huntington WV 25705
GEO:38.4097714;-82.3309037
END:VEVENT
END:VCALENDAR