BEGIN:VCALENDAR
VERSION:2.0
PRODID:-//Tukios.com/
BEGIN:VEVENT
UID:36ec0055-5fc1-4221-88ee-8570a8bc4b86@www.regerfuneralhome.com
DTSTAMP:20260425T232932Z
DTSTART:20260429T153000Z
DTEND:20260429T170000Z
SUMMARY:Visitation
DESCRIPTION:
URL:https://www.regerfuneralhome.com/obituaries/janet-gardner
LOCATION:Madison Ave. Christian Church 722 12th Street West  Huntington 
	WV 25704
GEO:38.4103041;-82.4760294
END:VEVENT
END:VCALENDAR