BEGIN:VCALENDAR
VERSION:2.0
PRODID:-//Tukios.com/
BEGIN:VEVENT
UID:6a0d4bd6-7c05-41cb-a8a7-a4fb832dacfb@www.regerfuneralhome.com
DTSTAMP:20260425T233212Z
DTSTART:20260429T170000Z
DTEND:20260429T180000Z
SUMMARY:Funeral Service
DESCRIPTION:
URL:https://www.regerfuneralhome.com/obituaries/janet-gardner
LOCATION:Madison Ave. Christian Church 722 12th Street West  Huntington 
	WV 25704
GEO:38.4103041;-82.4760294
END:VEVENT
END:VCALENDAR