BEGIN:VCALENDAR
VERSION:2.0
PRODID:-//Tukios.com/
BEGIN:VEVENT
UID:69940411-f0e4-42ca-8cce-7c5f9bcf7b09@www.regerfuneralhome.com
DTSTAMP:20260422T214113Z
DTSTART:20260425T160000Z
DTEND:20260425T170000Z
SUMMARY:Visitation
DESCRIPTION:
URL:https://www.regerfuneralhome.com/obituaries/judy-russell
LOCATION:Reger Funeral Home Ceredo-Kenova Chapel 1135 C Street  South 
	Point WV 45680
GEO:38.3966392;-82.5535235
END:VEVENT
END:VCALENDAR