BEGIN:VCALENDAR
VERSION:2.0
PRODID:-//Tukios.com/
BEGIN:VEVENT
UID:e22e6d2e-ebc9-47c6-a0c2-3e9fdfa47b04@www.regerfuneralhome.com
DTSTAMP:20260422T214157Z
DTSTART:20260427T180000Z
DTEND:20260427T183000Z
SUMMARY:Burial
DESCRIPTION:
URL:https://www.regerfuneralhome.com/obituaries/judy-russell
LOCATION:Baylous Cemetery 5500 Hickory Ridge Rd.  Barboursville WV 25504
GEO:38.318258;-82.2769704
END:VEVENT
END:VCALENDAR